BEGIN:VCALENDAR
VERSION:2.0
PRODID:-//Plone.org//NONSGML plone.app.event//EN
X-WR-TIMEZONE:Brazil/East
BEGIN:VEVENT
SUMMARY:QUINTA-FEIRA (24): 2° SESSÃO ORDINÁRIA DO QUARTO PERÍODO LEGIS
 LATIVO DE 2024
DTSTART;TZID=Brazil/East;VALUE=DATE-TIME:20241024T140000
DTEND;TZID=Brazil/East;VALUE=DATE-TIME:20241024T170000
DTSTAMP;VALUE=DATE-TIME:20260425T183638Z
UID:1b4912718d23471ca22b04c139de04dc@www.taquaritingadonorte.pe.leg.br
CREATED;VALUE=DATE-TIME:20241017T103751Z
LAST-MODIFIED;VALUE=DATE-TIME:20241017T103939Z
URL:https://www.taquaritingadonorte.pe.leg.br/institucional/eventos/quinta
 -feira-24-2deg-sessao-ordinaria-do-quarto-periodo-legislativo-de-2024
END:VEVENT
BEGIN:VTIMEZONE
TZID:Brazil/East
X-LIC-LOCATION:Brazil/East
BEGIN:DAYLIGHT
DTSTART;VALUE=DATE-TIME:20241020T010000
TZNAME:BRST
TZOFFSETFROM:-0300
TZOFFSETTO:-0200
END:DAYLIGHT
END:VTIMEZONE
END:VCALENDAR
