BEGIN:VCALENDAR
VERSION:2.0
PRODID:-//Plone.org//NONSGML plone.app.event//EN
X-WR-TIMEZONE:Brazil/East
BEGIN:VEVENT
SUMMARY:QUINTA-FEIRA (31): 3° SESSÃO ORDINÁRIA DO QUARTO PERÍODO LEGIS
 LATIVO DE 2024
DTSTART;TZID=Brazil/East;VALUE=DATE-TIME:20241031T140000
DTEND;TZID=Brazil/East;VALUE=DATE-TIME:20241031T170000
DTSTAMP;VALUE=DATE-TIME:20260425T165311Z
UID:71a756ca853e4e0f8c077cdef7195259@www.taquaritingadonorte.pe.leg.br
CREATED;VALUE=DATE-TIME:20241017T105652Z
LAST-MODIFIED;VALUE=DATE-TIME:20241017T110520Z
URL:https://www.taquaritingadonorte.pe.leg.br/institucional/eventos/quinta
 -feira-31-3deg-sessao-ordinaria-do-quarto-periodo-legislativo-de-2024
END:VEVENT
BEGIN:VTIMEZONE
TZID:Brazil/East
X-LIC-LOCATION:Brazil/East
BEGIN:DAYLIGHT
DTSTART;VALUE=DATE-TIME:20241020T010000
TZNAME:BRST
TZOFFSETFROM:-0300
TZOFFSETTO:-0200
END:DAYLIGHT
END:VTIMEZONE
END:VCALENDAR
