BEGIN:VCALENDAR
VERSION:2.0
PRODID:-//Plone.org//NONSGML plone.app.event//EN
X-WR-TIMEZONE:Brazil/East
BEGIN:VEVENT
SUMMARY:QUINTA-FEIRA: 5.° SESSÃO ORDINÁRIA
DTSTART;TZID=Brazil/East;VALUE=DATE-TIME:20231116T140000
DTEND;TZID=Brazil/East;VALUE=DATE-TIME:20231116T170000
DTSTAMP;VALUE=DATE-TIME:20260425T213708Z
UID:7a3a8b3768da4d48bc29e3003a5815ee@www.taquaritingadonorte.pe.leg.br
CREATED;VALUE=DATE-TIME:20231116T090431Z
LAST-MODIFIED;VALUE=DATE-TIME:20231116T090438Z
URL:https://www.taquaritingadonorte.pe.leg.br/institucional/eventos/quinta
 -feira-5-deg-sessao-ordinaria-1
END:VEVENT
BEGIN:VTIMEZONE
TZID:Brazil/East
X-LIC-LOCATION:Brazil/East
BEGIN:DAYLIGHT
DTSTART;VALUE=DATE-TIME:20231015T010000
TZNAME:BRST
TZOFFSETFROM:-0300
TZOFFSETTO:-0200
END:DAYLIGHT
END:VTIMEZONE
END:VCALENDAR
